BEGIN:VCALENDAR
VERSION:2.0
PRODID:-//OmniMagnetCalendar//EN
BEGIN:VEVENT
DTSTAMP:20190625T195740Z
STATUS:CONFIRMED
UID:hcphoenix.clubs.harvard.edu512
DTSTART:20260423T010000Z
DTEND:20260423T020000Z
LOCATION:Virtual Event,
SUMMARY:Opera Insights: Madama Butterfly - a Free, Virtual Program tonight
DESCRIPTION:featuring Madeleine Snow, AB '20
BEGIN:VALARM
TRIGGER:-PT15M
ACTION:DISPLAY
END:VALARM
TRANSP:OPAQUE
END:VEVENT
END:VCALENDAR
