BEGIN:VCALENDAR
VERSION:2.0
PRODID:-//OmniMagnetCalendar//EN
BEGIN:VEVENT
DTSTAMP:20190625T195740Z
STATUS:CONFIRMED
UID:hcphoenix.clubs.harvard.edu500
DTSTART:20260117T173000Z
DTEND:20260117T193000Z
LOCATION:Musical Instrument Museum (MIM) , 4725 E Mayo Blvd, Phoenix, AZ, 85050,
SUMMARY:Phoenix Ivy Council Alumni Clubs - check out upcoming events!
DESCRIPTION:Polynesian Morning Alumni Mixer at the MIM
BEGIN:VALARM
TRIGGER:-PT15M
ACTION:DISPLAY
END:VALARM
TRANSP:OPAQUE
END:VEVENT
END:VCALENDAR
