BEGIN:VCALENDAR
VERSION:2.0
PRODID:-//OmniMagnetCalendar//EN
BEGIN:VEVENT
DTSTAMP:20190625T195740Z
STATUS:CONFIRMED
UID:hcphoenix.clubs.harvard.edu487
DTSTART:20250905T003000Z
DTEND:20250905T023000Z
LOCATION:Global Ambassador Hotel, 4360 E Camelback, Scottsdale, AZ, 85018,
SUMMARY:Phoenix SIG: HREAO Thursday, September 4th, 2025 - Global Ambassador 5:30-7:30 Harvard Alumni Only
DESCRIPTION:
BEGIN:VALARM
TRIGGER:-PT15M
ACTION:DISPLAY
END:VALARM
TRANSP:OPAQUE
END:VEVENT
END:VCALENDAR
