BEGIN:VCALENDAR
VERSION:2.0
PRODID:-//OmniMagnetCalendar//EN
BEGIN:VEVENT
DTSTAMP:20190625T195740Z
STATUS:CONFIRMED
UID:hcphoenix.clubs.harvard.edu483
DTSTART:20251214T230000Z
DTEND:20251215T020000Z
LOCATION:Aunt Chilada's Phoenix Restaurant, 7330 N Dreamy Draw Dr., Phoenix, AZ, 85020, US,
SUMMARY:All-Harvard HOLIDAY PARTY - December 14, 2025  4 - 7 p.m.
DESCRIPTION:Celebrate the Holiday Season with fellow alums & friends LOCATION:  Aunt Chilada's Phoenix
BEGIN:VALARM
TRIGGER:-PT15M
ACTION:DISPLAY
END:VALARM
TRANSP:OPAQUE
END:VEVENT
END:VCALENDAR
