BEGIN:VCALENDAR
VERSION:2.0
PRODID:-//OmniMagnetCalendar//EN
BEGIN:VEVENT
DTSTAMP:20190625T195740Z
STATUS:CONFIRMED
UID:hcphoenix.clubs.harvard.edu481
DTSTART:20250427T010000Z
DTEND:20250502T030000Z
LOCATION:75 N. 2nd Street, Phoenix, AZ 85004, 75 n 2nd st, Phoenix , AZ, 85004,
SUMMARY:Beethoven 9th Symphony and Ivy Council Reception April 26 6pm
DESCRIPTION:
BEGIN:VALARM
TRIGGER:-PT15M
ACTION:DISPLAY
END:VALARM
TRANSP:OPAQUE
END:VEVENT
END:VCALENDAR
