BEGIN:VCALENDAR
VERSION:2.0
PRODID:-//OmniMagnetCalendar//EN
BEGIN:VEVENT
DTSTAMP:20190625T195740Z
STATUS:CONFIRMED
UID:hcphoenix.clubs.harvard.edu480
DTSTART:20250502T000000Z
DTEND:20250502T020000Z
LOCATION:Paradise Valley Country Club, 7101 N. Tatum Blvd. , Paradise Valley, AZ, 85253,
SUMMARY:HCPHX Annual Dinner and Meeting  Thursday May 1st at PVCC 6-9pm
DESCRIPTION:
BEGIN:VALARM
TRIGGER:-PT15M
ACTION:DISPLAY
END:VALARM
TRANSP:OPAQUE
END:VEVENT
END:VCALENDAR
