BEGIN:VCALENDAR
VERSION:2.0
PRODID:-//OmniMagnetCalendar//EN
BEGIN:VEVENT
DTSTAMP:20190625T195740Z
STATUS:CONFIRMED
UID:hcphoenix.clubs.harvard.edu478
DTSTART:20250307T010000Z
DTEND:20250307T023000Z
LOCATION:Global Ambassador, 4360 E Camelback, Scottsdale, AZ, 85018,
SUMMARY:SIGS: HREAO MARCH 6 2025 Global Ambassador
DESCRIPTION:
BEGIN:VALARM
TRIGGER:-PT15M
ACTION:DISPLAY
END:VALARM
TRANSP:OPAQUE
END:VEVENT
END:VCALENDAR
