BEGIN:VCALENDAR
VERSION:2.0
PRODID:-//OmniMagnetCalendar//EN
BEGIN:VEVENT
DTSTAMP:20190625T195740Z
STATUS:CONFIRMED
UID:hcphoenix.clubs.harvard.edu473
DTSTART:20241120T000000Z
DTEND:20241120T023000Z
LOCATION:Paradise Valley Town Center, 6401 E Lincoln Dr., Paradise Valley,, AZ, 85253,
SUMMARY:HBS Invites: Market and Economic Outlook - Tuesday November 19, 5pm
DESCRIPTION:
BEGIN:VALARM
TRIGGER:-PT15M
ACTION:DISPLAY
END:VALARM
TRANSP:OPAQUE
END:VEVENT
END:VCALENDAR
