BEGIN:VCALENDAR
VERSION:2.0
PRODID:-//OmniMagnetCalendar//EN
BEGIN:VEVENT
DTSTAMP:20190625T195740Z
STATUS:CONFIRMED
UID:hcphoenix.clubs.harvard.edu468
DTSTART:20240912T010000Z
DTEND:20240912T030000Z
LOCATION:5402 E Lincoln Drive, Phoenix , AZ, 85253,
SUMMARY:WELCOME TO YOUR CITY 2024 -  September 11th - Rita's 6:00-8:00
DESCRIPTION:
BEGIN:VALARM
TRIGGER:-PT15M
ACTION:DISPLAY
END:VALARM
TRANSP:OPAQUE
END:VEVENT
END:VCALENDAR
