BEGIN:VCALENDAR
VERSION:2.0
PRODID:-//OmniMagnetCalendar//EN
BEGIN:VEVENT
DTSTAMP:20190625T195740Z
STATUS:CONFIRMED
UID:hcphoenix.clubs.harvard.edu466
DTSTART:20240320T070000Z
DTEND:20240517T200000Z
LOCATION:75 N 2nd Street, Phoenix , AZ,
SUMMARY:Canceled: Middle Schoolers to Symphony Performance -- Friday, May 17, 2024 9AM
DESCRIPTION:
BEGIN:VALARM
TRIGGER:-PT15M
ACTION:DISPLAY
END:VALARM
TRANSP:OPAQUE
END:VEVENT
END:VCALENDAR
