BEGIN:VCALENDAR
VERSION:2.0
PRODID:-//OmniMagnetCalendar//EN
BEGIN:VEVENT
DTSTAMP:20190625T195740Z
STATUS:CONFIRMED
UID:hcphoenix.clubs.harvard.edu465
DTSTART:20240319T065900Z
DTEND:20240412T030000Z
LOCATION:2801 E Camelback, Phoenix , AZ, 85016,
SUMMARY:Cancer Research Review with Phoenix Ivy  - Thursday, April 11, 2024 6-8PM
DESCRIPTION:
BEGIN:VALARM
TRIGGER:-PT15M
ACTION:DISPLAY
END:VALARM
TRANSP:OPAQUE
END:VEVENT
END:VCALENDAR
