BEGIN:VCALENDAR
VERSION:2.0
PRODID:-//OmniMagnetCalendar//EN
BEGIN:VEVENT
DTSTAMP:20190625T195740Z
STATUS:CONFIRMED
UID:hcphoenix.clubs.harvard.edu461
DTSTART:20240308T003000Z
DTEND:20240314T030000Z
LOCATION:R Bar at Rita's at the JW Marriott, 5402 E Lincoln Drive, Scottsdale, AZ, 85253,
SUMMARY:Global Networking Night is Wednesday, March 13, 2024
DESCRIPTION:
BEGIN:VALARM
TRIGGER:-PT15M
ACTION:DISPLAY
END:VALARM
TRANSP:OPAQUE
END:VEVENT
END:VCALENDAR
