BEGIN:VCALENDAR
VERSION:2.0
PRODID:-//OmniMagnetCalendar//EN
BEGIN:VEVENT
DTSTAMP:20190625T195740Z
STATUS:CONFIRMED
UID:hcphoenix.clubs.harvard.edu460
DTSTART:20240110T010000Z
DTEND:20240301T023000Z
LOCATION:Paradise Valley Town Hall, 6401 E Lincoln Dr, Paradise Valley, AZ, 85253,
SUMMARY:With HBS AZ : CEO Speaker Series Launch Thursday, February 29th 6PM
DESCRIPTION:
BEGIN:VALARM
TRIGGER:-PT15M
ACTION:DISPLAY
END:VALARM
TRANSP:OPAQUE
END:VEVENT
END:VCALENDAR
