BEGIN:VCALENDAR
VERSION:2.0
PRODID:-//OmniMagnetCalendar//EN
BEGIN:VEVENT
DTSTAMP:20190625T195740Z
STATUS:CONFIRMED
UID:hcphoenix.clubs.harvard.edu457
DTSTART:20240105T230000Z
DTEND:20240106T030000Z
LOCATION:3605 N 7th Ave, Phoenix , AZ, 85013,
SUMMARY:Harvard Hockey at ASU JANUARY 5 4pm - Reception and Game
DESCRIPTION:
BEGIN:VALARM
TRIGGER:-PT15M
ACTION:DISPLAY
END:VALARM
TRANSP:OPAQUE
END:VEVENT
END:VCALENDAR
