BEGIN:VCALENDAR
VERSION:2.0
PRODID:-//OmniMagnetCalendar//EN
BEGIN:VEVENT
DTSTAMP:20190625T195740Z
STATUS:CONFIRMED
UID:hcphoenix.clubs.harvard.edu455
DTSTART:20231105T010000Z
DTEND:20231105T033000Z
LOCATION:Phoenix Symphony, 75 N. 2nd Street, Phoenix, AZ, 85004,
SUMMARY:Phoenix Symphony and Desert Dusk Reception with Ivy Council November 4, 6pm
DESCRIPTION:
BEGIN:VALARM
TRIGGER:-PT15M
ACTION:DISPLAY
END:VALARM
TRANSP:OPAQUE
END:VEVENT
END:VCALENDAR
