BEGIN:VCALENDAR
VERSION:2.0
PRODID:-//OmniMagnetCalendar//EN
BEGIN:VEVENT
DTSTAMP:20190625T195740Z
STATUS:CONFIRMED
UID:hcphoenix.clubs.harvard.edu443
DTSTART:20221119T170000Z
DTEND:20221119T200000Z
LOCATION:3605 N 7th Ave, Phoenix AZ 95013,
SUMMARY:Harvard - Yale Men's Football Match Up - Saturday November 19 10AM
DESCRIPTION:
BEGIN:VALARM
TRIGGER:-PT15M
ACTION:DISPLAY
END:VALARM
TRANSP:OPAQUE
END:VEVENT
END:VCALENDAR
