BEGIN:VCALENDAR
VERSION:2.0
PRODID:-//OmniMagnetCalendar//EN
BEGIN:VEVENT
DTSTAMP:20190625T195740Z
STATUS:CONFIRMED
UID:hcphoenix.clubs.harvard.edu440
DTSTART:20220715T051056Z
DTEND:20220816T035716Z
LOCATION:3603 N 7th Street, Phoenix, AZ, 85013, USA,
SUMMARY:CALL FOR BOARD NOMINATIONS, First Generation Harvard Alumni
DESCRIPTION:
BEGIN:VALARM
TRIGGER:-PT15M
ACTION:DISPLAY
END:VALARM
TRANSP:OPAQUE
END:VEVENT
END:VCALENDAR
