BEGIN:VCALENDAR
VERSION:2.0
PRODID:-//OmniMagnetCalendar//EN
BEGIN:VEVENT
DTSTAMP:20190625T195740Z
STATUS:CONFIRMED
UID:hcphoenix.clubs.harvard.edu438
DTSTART:20220829T160101Z
DTEND:20220830T035901Z
LOCATION:3605 N 7th Ave, Phoenix, AZ, 85013, USA,
SUMMARY:August 29th: Harvard Global Day of Service
DESCRIPTION:
BEGIN:VALARM
TRIGGER:-PT15M
ACTION:DISPLAY
END:VALARM
TRANSP:OPAQUE
END:VEVENT
END:VCALENDAR
