BEGIN:VCALENDAR
VERSION:2.0
PRODID:-//OmniMagnetCalendar//EN
BEGIN:VEVENT
DTSTAMP:20190625T195740Z
STATUS:CONFIRMED
UID:hcphoenix.clubs.harvard.edu433
DTSTART:20220522T010000Z
DTEND:
LOCATION:3605 N 7th Avenue, Phoenix, AZ, 85013,
SUMMARY:Beethoven Symphony with Phoenix Ivy Council
DESCRIPTION:
BEGIN:VALARM
TRIGGER:-PT15M
ACTION:DISPLAY
END:VALARM
TRANSP:OPAQUE
END:VEVENT
END:VCALENDAR
