BEGIN:VCALENDAR
VERSION:2.0
PRODID:-//OmniMagnetCalendar//EN
BEGIN:VEVENT
DTSTAMP:20190625T195740Z
STATUS:CONFIRMED
UID:hcphoenix.clubs.harvard.edu428
DTSTART:20210609T210000Z
DTEND:20220311T000000Z
LOCATION:3605 N 7th Avenue, Phoenix, AZ, 85013,
SUMMARY:Joy of Moving / DeCluttering Workshop -- Thursday, March 10th, 6pm
DESCRIPTION:
BEGIN:VALARM
TRIGGER:-PT15M
ACTION:DISPLAY
END:VALARM
TRANSP:OPAQUE
END:VEVENT
END:VCALENDAR
