BEGIN:VCALENDAR
VERSION:2.0
PRODID:-//OmniMagnetCalendar//EN
BEGIN:VEVENT
DTSTAMP:20190625T195740Z
STATUS:CONFIRMED
UID:hcphoenix.clubs.harvard.edu421
DTSTART:20210614T225338Z
DTEND:20211104T055959Z
LOCATION:3605 N 7th Avenue, Phoenix, AZ, 85013,
SUMMARY:HAA Shared Interest Group SHOWCASE - NOV 3 - SIGN UPS
DESCRIPTION:
BEGIN:VALARM
TRIGGER:-PT15M
ACTION:DISPLAY
END:VALARM
TRANSP:OPAQUE
END:VEVENT
END:VCALENDAR
