BEGIN:VCALENDAR
VERSION:2.0
PRODID:-//OmniMagnetCalendar//EN
BEGIN:VEVENT
DTSTAMP:20190625T195740Z
STATUS:CONFIRMED
UID:hcphoenix.clubs.harvard.edu419
DTSTART:20210613T000000Z
DTEND:20210923T020000Z
LOCATION:5455 E. Lincoln Blvd, Paradise Valley, AZ, 85353,
SUMMARY:Happy Hour #2 for Members and Guests - WED SEPT 22nd, 5:00-7:30
DESCRIPTION:
BEGIN:VALARM
TRIGGER:-PT15M
ACTION:DISPLAY
END:VALARM
TRANSP:OPAQUE
END:VEVENT
END:VCALENDAR
