BEGIN:VCALENDAR
VERSION:2.0
PRODID:-//OmniMagnetCalendar//EN
BEGIN:VEVENT
DTSTAMP:20190625T195740Z
STATUS:CONFIRMED
UID:hcphoenix.clubs.harvard.edu416
DTSTART:20210613T190000Z
DTEND:20210926T065900Z
LOCATION:3605 N 7th Avenue, Phoenix, AZ, 85013,
SUMMARY:HAA Sponsored Unity Weekend SEPT 23-25
DESCRIPTION:
BEGIN:VALARM
TRIGGER:-PT15M
ACTION:DISPLAY
END:VALARM
TRANSP:OPAQUE
END:VEVENT
END:VCALENDAR
