BEGIN:VCALENDAR
VERSION:2.0
PRODID:-//OmniMagnetCalendar//EN
BEGIN:VEVENT
DTSTAMP:20190625T195740Z
STATUS:CONFIRMED
UID:hcphoenix.clubs.harvard.edu415
DTSTART:20210611T065900Z
DTEND:20210831T063000Z
LOCATION:3605 N 7th Avenue, Phoenix, AZ, 85013,
SUMMARY:HAA Global Day of Service - MON,  AUG 30th
DESCRIPTION:
BEGIN:VALARM
TRIGGER:-PT15M
ACTION:DISPLAY
END:VALARM
TRANSP:OPAQUE
END:VEVENT
END:VCALENDAR
