BEGIN:VCALENDAR
VERSION:2.0
PRODID:-//OmniMagnetCalendar//EN
BEGIN:VEVENT
DTSTAMP:20190625T195740Z
STATUS:CONFIRMED
UID:hcphoenix.clubs.harvard.edu414
DTSTART:20210611T070000Z
DTEND:20210918T230000Z
LOCATION:115 N Church Avenue, Tucson, AZ,
SUMMARY:TUCSON Gem and Mineral Museum - SAT, SEPT 18 12-4 PM - Children Free
DESCRIPTION:
BEGIN:VALARM
TRIGGER:-PT15M
ACTION:DISPLAY
END:VALARM
TRANSP:OPAQUE
END:VEVENT
END:VCALENDAR
