BEGIN:VCALENDAR
VERSION:2.0
PRODID:-//OmniMagnetCalendar//EN
BEGIN:VEVENT
DTSTAMP:20190625T195740Z
STATUS:CONFIRMED
UID:hcphoenix.clubs.harvard.edu413
DTSTART:20210615T003000Z
DTEND:20211023T023000Z
LOCATION:6850 E. Main Street, Scottsdale, AZ,
SUMMARY:HAA 'Welcome To Your City' Celebration -  October 21st 5:30-8:00
DESCRIPTION:
BEGIN:VALARM
TRIGGER:-PT15M
ACTION:DISPLAY
END:VALARM
TRANSP:OPAQUE
END:VEVENT
END:VCALENDAR
