BEGIN:VCALENDAR
VERSION:2.0
PRODID:-//OmniMagnetCalendar//EN
BEGIN:VEVENT
DTSTAMP:20190625T195740Z
STATUS:CONFIRMED
UID:hcphoenix.clubs.harvard.edu411
DTSTART:20210614T000000Z
DTEND:20220317T023000Z
LOCATION:3605 N 7th Avenue, Phoenix, AZ, 85013,
SUMMARY:Annual Global Networking Night 2022 MARCH 16TH 5-7:30
DESCRIPTION:
BEGIN:VALARM
TRIGGER:-PT15M
ACTION:DISPLAY
END:VALARM
TRANSP:OPAQUE
END:VEVENT
END:VCALENDAR
