BEGIN:VCALENDAR
VERSION:2.0
PRODID:-//OmniMagnetCalendar//EN
BEGIN:VEVENT
DTSTAMP:20190625T195740Z
STATUS:CONFIRMED
UID:hcphoenix.clubs.harvard.edu410
DTSTART:20210601T180000Z
DTEND:20211120T200000Z
LOCATION:3605 N 7th Ave, Phoenix , AZ, 85013,
SUMMARY:HARVARD Yale Broadcast - NOV 20 10 am - Zipps Sports Grill
DESCRIPTION:
BEGIN:VALARM
TRIGGER:-PT15M
ACTION:DISPLAY
END:VALARM
TRANSP:OPAQUE
END:VEVENT
END:VCALENDAR
