BEGIN:VCALENDAR
VERSION:2.0
PRODID:-//OmniMagnetCalendar//EN
BEGIN:VEVENT
DTSTAMP:20190625T195740Z
STATUS:CONFIRMED
UID:hcphoenix.clubs.harvard.edu406
DTSTART:20210512T160001Z
DTEND:20210513T103000Z
LOCATION:3605 N 7th Ave, Phoenix, AZ, 85013,
SUMMARY:HBS Global Angel Investor Forum - May 12th-13th
DESCRIPTION:
BEGIN:VALARM
TRIGGER:-PT15M
ACTION:DISPLAY
END:VALARM
TRANSP:OPAQUE
END:VEVENT
END:VCALENDAR
