BEGIN:VCALENDAR
VERSION:2.0
PRODID:-//OmniMagnetCalendar//EN
BEGIN:VEVENT
DTSTAMP:20190625T195740Z
STATUS:CONFIRMED
UID:hcphoenix.clubs.harvard.edu402
DTSTART:20210429T010000Z
DTEND:20210429T020000Z
LOCATION:3605 N 7th Avenue, Phoenix, CA, 85013,
SUMMARY:HCPhx Education Series Part I - Teaching Future Presidents - Wed. 28 April 5pm
DESCRIPTION:
BEGIN:VALARM
TRIGGER:-PT15M
ACTION:DISPLAY
END:VALARM
TRANSP:OPAQUE
END:VEVENT
END:VCALENDAR
