BEGIN:VCALENDAR
VERSION:2.0
PRODID:-//OmniMagnetCalendar//EN
BEGIN:VEVENT
DTSTAMP:20190625T195740Z
STATUS:CONFIRMED
UID:hcphoenix.clubs.harvard.edu398
DTSTART:20210401T000000Z
DTEND:20210401T013000Z
LOCATION:Virtual,
SUMMARY:Harvard’s "Science and Cooking" Course: An Insider’s Discussion with Professor Michael Brenner
DESCRIPTION:
BEGIN:VALARM
TRIGGER:-PT15M
ACTION:DISPLAY
END:VALARM
TRANSP:OPAQUE
END:VEVENT
END:VCALENDAR
