BEGIN:VCALENDAR
VERSION:2.0
PRODID:-//OmniMagnetCalendar//EN
BEGIN:VEVENT
DTSTAMP:20190625T195740Z
STATUS:CONFIRMED
UID:hcphoenix.clubs.harvard.edu393
DTSTART:20201213T144500Z
DTEND:20210214T145240Z
LOCATION:3603 N 7TH AVENUE, PHOENIX, AZ, 85013, Phoenix,
SUMMARY:JOIN ALUMNAE-I NETWORK OF HARVARD WOMEN
DESCRIPTION:
BEGIN:VALARM
TRIGGER:-PT15M
ACTION:DISPLAY
END:VALARM
TRANSP:OPAQUE
END:VEVENT
END:VCALENDAR
