BEGIN:VCALENDAR
VERSION:2.0
PRODID:-//OmniMagnetCalendar//EN
BEGIN:VEVENT
DTSTAMP:20190625T195740Z
STATUS:CONFIRMED
UID:hcphoenix.clubs.harvard.edu391
DTSTART:20201210T150000Z
DTEND:20210129T030000Z
LOCATION:3603 N 7th Avenue, Phoenix, AZ, 85013,
SUMMARY:COLLECTING PHOTOGRAPHY with Harvard Museums Curator Alice Sachs Zimet - January 28, 6:00 PM
DESCRIPTION:
BEGIN:VALARM
TRIGGER:-PT15M
ACTION:DISPLAY
END:VALARM
TRANSP:OPAQUE
END:VEVENT
END:VCALENDAR
