BEGIN:VCALENDAR
VERSION:2.0
PRODID:-//OmniMagnetCalendar//EN
BEGIN:VEVENT
DTSTAMP:20190625T195740Z
STATUS:CONFIRMED
UID:hcphoenix.clubs.harvard.edu389
DTSTART:20201207T070000Z
DTEND:20210122T030000Z
LOCATION:3603 N 7th Avenue, Phoenix, AZ, 85013,
SUMMARY:GLOBAL NETWORKING NIGHT January 21, 2021
DESCRIPTION:
BEGIN:VALARM
TRIGGER:-PT15M
ACTION:DISPLAY
END:VALARM
TRANSP:OPAQUE
END:VEVENT
END:VCALENDAR
