BEGIN:VCALENDAR
VERSION:2.0
PRODID:-//OmniMagnetCalendar//EN
BEGIN:VEVENT
DTSTAMP:20190625T195740Z
STATUS:CONFIRMED
UID:hcphoenix.clubs.harvard.edu388
DTSTART:20210112T120000Z
DTEND:20210130T070000Z
LOCATION:3603 N 7th Avenue, Phoenix, AZ, 85013,
SUMMARY:HCPHX PRESENTS JANUARY 2021 NEW ECONOMY BUSINESS FOCUS
DESCRIPTION:
BEGIN:VALARM
TRIGGER:-PT15M
ACTION:DISPLAY
END:VALARM
TRANSP:OPAQUE
END:VEVENT
END:VCALENDAR
