BEGIN:VCALENDAR
VERSION:2.0
PRODID:-//OmniMagnetCalendar//EN
BEGIN:VEVENT
DTSTAMP:20190625T195740Z
STATUS:CONFIRMED
UID:hcphoenix.clubs.harvard.edu375
DTSTART:20200923T170000Z
DTEND:20200923T180000Z
LOCATION:Virtual,
SUMMARY:Climate, Biodiversity, Pandemics, and Justice: Converging Reasons for Alarm?
DESCRIPTION:
BEGIN:VALARM
TRIGGER:-PT15M
ACTION:DISPLAY
END:VALARM
TRANSP:OPAQUE
END:VEVENT
END:VCALENDAR
