BEGIN:VCALENDAR
VERSION:2.0
PRODID:-//OmniMagnetCalendar//EN
BEGIN:VEVENT
DTSTAMP:20190625T195740Z
STATUS:CONFIRMED
UID:hcphoenix.clubs.harvard.edu374
DTSTART:20200813T201500Z
DTEND:20200813T211500Z
LOCATION:Virtual,
SUMMARY:Book Talk: Becoming Kim Jong Un: Insights Into North Korea’s Dangerous and Enigmatic Dictator
DESCRIPTION:
BEGIN:VALARM
TRIGGER:-PT15M
ACTION:DISPLAY
END:VALARM
TRANSP:OPAQUE
END:VEVENT
END:VCALENDAR
