BEGIN:VCALENDAR
VERSION:2.0
PRODID:-//OmniMagnetCalendar//EN
BEGIN:VEVENT
DTSTAMP:20190625T195740Z
STATUS:CONFIRMED
UID:hcphoenix.clubs.harvard.edu370
DTSTART:20200728T230000Z
DTEND:20200728T230000Z
LOCATION:Virtual,
SUMMARY:COVID-19 and Economic Opportunity Across Zip Codes in America: Prof. Raj Chetty
DESCRIPTION:
BEGIN:VALARM
TRIGGER:-PT15M
ACTION:DISPLAY
END:VALARM
TRANSP:OPAQUE
END:VEVENT
END:VCALENDAR
