BEGIN:VCALENDAR
VERSION:2.0
PRODID:-//OmniMagnetCalendar//EN
BEGIN:VEVENT
DTSTAMP:20190625T195740Z
STATUS:CONFIRMED
UID:hcphoenix.clubs.harvard.edu365
DTSTART:20200630T000000Z
DTEND:20200623T011500Z
LOCATION:6221 E Camelback Rd, Scottsdale , AZ, 85251, USA,
SUMMARY:Before Black Lives Matter: Author talk on Stolen, Five Free Boys Kidnapped into Slavery and their As
DESCRIPTION:Harvard PhD Richard Bell, on stealing Black freedom and the Reverse Underground Railroad
BEGIN:VALARM
TRIGGER:-PT15M
ACTION:DISPLAY
END:VALARM
TRANSP:OPAQUE
END:VEVENT
END:VCALENDAR
