BEGIN:VCALENDAR
VERSION:2.0
PRODID:-//OmniMagnetCalendar//EN
BEGIN:VEVENT
DTSTAMP:20190625T195740Z
STATUS:CONFIRMED
UID:hcphoenix.clubs.harvard.edu356
DTSTART:20200528T210000Z
DTEND:20200528T220000Z
LOCATION:235 Montgomery Street, San Francisco, CA, 94101, United States,
SUMMARY:Harvard Professor Cornell William Brookes
DESCRIPTION:
BEGIN:VALARM
TRIGGER:-PT15M
ACTION:DISPLAY
END:VALARM
TRANSP:OPAQUE
END:VEVENT
END:VCALENDAR
