BEGIN:VCALENDAR
VERSION:2.0
PRODID:-//OmniMagnetCalendar//EN
BEGIN:VEVENT
DTSTAMP:20190625T195740Z
STATUS:CONFIRMED
UID:hcphoenix.clubs.harvard.edu352
DTSTART:20200508T003000Z
DTEND:20200508T020048Z
LOCATION:6221 E. Camelback Rd, Scottsdale , AZ, 85251, USA,
SUMMARY:Well Being in Turbulent Times
DESCRIPTION:
BEGIN:VALARM
TRIGGER:-PT15M
ACTION:DISPLAY
END:VALARM
TRANSP:OPAQUE
END:VEVENT
END:VCALENDAR
