BEGIN:VCALENDAR
VERSION:2.0
PRODID:-//OmniMagnetCalendar//EN
BEGIN:VEVENT
DTSTAMP:20190625T195740Z
STATUS:CONFIRMED
UID:hcphoenix.clubs.harvard.edu350
DTSTART:20200314T190100Z
DTEND:20200528T172619Z
LOCATION:Online Event, 3605 N. 7th Avenue, Phoenix, AZ, 85013, USA,
SUMMARY:It's Your Club
DESCRIPTION:
BEGIN:VALARM
TRIGGER:-PT15M
ACTION:DISPLAY
END:VALARM
TRANSP:OPAQUE
END:VEVENT
END:VCALENDAR
