BEGIN:VCALENDAR
VERSION:2.0
PRODID:-//OmniMagnetCalendar//EN
BEGIN:VEVENT
DTSTAMP:20190625T195740Z
STATUS:CONFIRMED
UID:hcphoenix.clubs.harvard.edu349
DTSTART:20200428T002000Z
DTEND:20200428T023000Z
LOCATION:Online Event, 6221 E. Camelback, Phoenix, AZ, 85251, USA,
SUMMARY:JONATHAN L. S. BYRNES, HBS DBA '80, former HAA President, MIT Lecturer
DESCRIPTION:
BEGIN:VALARM
TRIGGER:-PT15M
ACTION:DISPLAY
END:VALARM
TRANSP:OPAQUE
END:VEVENT
END:VCALENDAR
