BEGIN:VCALENDAR
VERSION:2.0
PRODID:-//OmniMagnetCalendar//EN
BEGIN:VEVENT
DTSTAMP:20190625T195740Z
STATUS:CONFIRMED
UID:hcphoenix.clubs.harvard.edu346
DTSTART:20200331T213000Z
DTEND:20200401T000000Z
LOCATION:Maestro's City Hall, 6991 E. Camelback Rd, Scottsdale, AZ, 85251,
SUMMARY:POSTPONED: Tech and Finance Social Dinner
DESCRIPTION:Your health is important.  Dinner will not be served.
BEGIN:VALARM
TRIGGER:-PT15M
ACTION:DISPLAY
END:VALARM
TRANSP:OPAQUE
END:VEVENT
END:VCALENDAR
