BEGIN:VCALENDAR
VERSION:2.0
PRODID:-//OmniMagnetCalendar//EN
BEGIN:VEVENT
DTSTAMP:20190625T195740Z
STATUS:CONFIRMED
UID:hcphoenix.clubs.harvard.edu344
DTSTART:20200426T010000Z
DTEND:20200426T030000Z
LOCATION:ASU SkySong, Building 3, Synergy, 1310-1475 N. Scottsdale Rd, Scottsdale, AZ, 85257, USA,
SUMMARY:CANCELED:  'WBCN & Revolution On the Radio'
DESCRIPTION:
BEGIN:VALARM
TRIGGER:-PT15M
ACTION:DISPLAY
END:VALARM
TRANSP:OPAQUE
END:VEVENT
END:VCALENDAR
