BEGIN:VCALENDAR
VERSION:2.0
PRODID:-//OmniMagnetCalendar//EN
BEGIN:VEVENT
DTSTAMP:20190625T195740Z
STATUS:CONFIRMED
UID:hcphoenix.clubs.harvard.edu340
DTSTART:20200311T213000Z
DTEND:20200312T000000Z
LOCATION:Flinn Foundation , 1802 N. Central Avenue, Phoenix , AZ, 85004, USA,
SUMMARY:Phoenix Ivy Just Announced: Wharton Club Presents Phoenix Mayor Kate Gallego
DESCRIPTION:
BEGIN:VALARM
TRIGGER:-PT15M
ACTION:DISPLAY
END:VALARM
TRANSP:OPAQUE
END:VEVENT
END:VCALENDAR
