BEGIN:VCALENDAR
VERSION:2.0
PRODID:-//OmniMagnetCalendar//EN
BEGIN:VEVENT
DTSTAMP:20190625T195740Z
STATUS:CONFIRMED
UID:hcphoenix.clubs.harvard.edu339
DTSTART:20200516T010000Z
DTEND:20200516T033000Z
LOCATION:Phoenix Country Club, 2901 N. 7th Street, Phoenix, CA, 85014, USA,
SUMMARY:POSTPONED: Undergraduate Welcome
DESCRIPTION:
BEGIN:VALARM
TRIGGER:-PT15M
ACTION:DISPLAY
END:VALARM
TRANSP:OPAQUE
END:VEVENT
END:VCALENDAR
