BEGIN:VCALENDAR
VERSION:2.0
PRODID:-//OmniMagnetCalendar//EN
BEGIN:VEVENT
DTSTAMP:20190625T195740Z
STATUS:CONFIRMED
UID:hcphoenix.clubs.harvard.edu336
DTSTART:20200311T002521Z
DTEND:20200311T023521Z
LOCATION:Kelly's at Southbridge, 7117 East 6th Avenue, Scottsdale, AZ, 85251, USA,
SUMMARY:Spring Harvard Phoenix Happy Hour
DESCRIPTION:
BEGIN:VALARM
TRIGGER:-PT15M
ACTION:DISPLAY
END:VALARM
TRANSP:OPAQUE
END:VEVENT
END:VCALENDAR
