BEGIN:VCALENDAR
VERSION:2.0
PRODID:-//OmniMagnetCalendar//EN
BEGIN:VEVENT
DTSTAMP:20190625T195740Z
STATUS:CONFIRMED
UID:hcphoenix.clubs.harvard.edu335
DTSTART:20200215T121622Z
DTEND:20200216T065900Z
LOCATION:6221 E Camelback, Scottsdale, AZ, 85251, USA,
SUMMARY:President of Board of Overseers Views Phoenix Community Service Program
DESCRIPTION:
BEGIN:VALARM
TRIGGER:-PT15M
ACTION:DISPLAY
END:VALARM
TRANSP:OPAQUE
END:VEVENT
END:VCALENDAR
