BEGIN:VCALENDAR
VERSION:2.0
PRODID:-//OmniMagnetCalendar//EN
BEGIN:VEVENT
DTSTAMP:20190625T195740Z
STATUS:CONFIRMED
UID:hcphoenix.clubs.harvard.edu334
DTSTART:20200402T010000Z
DTEND:20200402T033000Z
LOCATION:Gainey Ranch Golf Club, 7600 E Gainey Club Dr , Scottsdale, AZ, 85258, USA,
SUMMARY:CANCELED BY SPEAKER: Ambassador Ichiro Fujisaki
DESCRIPTION:
BEGIN:VALARM
TRIGGER:-PT15M
ACTION:DISPLAY
END:VALARM
TRANSP:OPAQUE
END:VEVENT
END:VCALENDAR
